Package: NetSAM Version: 1.46.0 Command: chmod a+r NetSAM -R && F:\biocbuild\bbs-3.20-bioc\R\bin\R.exe CMD build --keep-empty-dirs --no-resave-data NetSAM StartedAt: 2025-01-27 20:39:07 -0500 (Mon, 27 Jan 2025) EndedAt: 2025-01-27 20:40:02 -0500 (Mon, 27 Jan 2025) EllapsedTime: 55.3 seconds RetCode: 0 Status: OK PackageFile: NetSAM_1.46.0.tar.gz PackageFileSize: 1.035 MiB