Package: NetSAM Version: 1.46.0 Command: /Library/Frameworks/R.framework/Resources/bin/R CMD build --keep-empty-dirs --no-resave-data NetSAM StartedAt: 2025-01-27 21:06:15 -0500 (Mon, 27 Jan 2025) EndedAt: 2025-01-27 21:07:30 -0500 (Mon, 27 Jan 2025) EllapsedTime: 74.6 seconds RetCode: 0 Status: OK PackageFile: NetSAM_1.46.0.tar.gz PackageFileSize: 1.034 MiB