Package: NetSAM Version: 1.46.0 Command: /Library/Frameworks/R.framework/Resources/bin/R CMD INSTALL NetSAM StartedAt: 2025-01-30 17:47:12 -0500 (Thu, 30 Jan 2025) EndedAt: 2025-01-30 17:47:38 -0500 (Thu, 30 Jan 2025) EllapsedTime: 25.6 seconds RetCode: 0 Status: OK