Package: NetSAM Version: 1.46.0 Command: /Library/Frameworks/R.framework/Resources/bin/R CMD check --install=check:NetSAM.install-out.txt --library=/Library/Frameworks/R.framework/Resources/library --no-vignettes --timings NetSAM_1.46.0.tar.gz StartedAt: 2025-04-02 02:48:31 -0400 (Wed, 02 Apr 2025) EndedAt: 2025-04-02 03:12:38 -0400 (Wed, 02 Apr 2025) EllapsedTime: 1447.1 seconds RetCode: 0 Status: OK CheckDir: NetSAM.Rcheck Warnings: 0