Package: NetSAM Version: 1.46.0 Command: /Library/Frameworks/R.framework/Resources/bin/R CMD build --keep-empty-dirs --no-resave-data NetSAM StartedAt: 2025-04-01 04:19:37 -0400 (Tue, 01 Apr 2025) EndedAt: 2025-04-01 04:20:24 -0400 (Tue, 01 Apr 2025) EllapsedTime: 47.7 seconds RetCode: 0 Status: OK PackageFile: NetSAM_1.46.0.tar.gz PackageFileSize: 1.034 MiB