Package: NetPathMiner Version: 1.42.0 Command: /home/biocbuild/R/R/bin/R CMD check --install=check:NetPathMiner.install-out.txt --library=/home/biocbuild/R/R/site-library --no-vignettes --timings NetPathMiner_1.42.0.tar.gz StartedAt: 2025-01-28 09:30:37 -0000 (Tue, 28 Jan 2025) EndedAt: 2025-01-28 09:31:44 -0000 (Tue, 28 Jan 2025) EllapsedTime: 67.1 seconds RetCode: 0 Status: OK CheckDir: NetPathMiner.Rcheck Warnings: 0