Package: NetPathMiner Version: 1.42.0 Command: /Library/Frameworks/R.framework/Resources/bin/R CMD INSTALL NetPathMiner StartedAt: 2025-03-31 15:06:19 -0400 (Mon, 31 Mar 2025) EndedAt: 2025-03-31 15:06:58 -0400 (Mon, 31 Mar 2025) EllapsedTime: 39.5 seconds RetCode: 0 Status: OK