Package: NetPathMiner Version: 1.42.0 Command: /Library/Frameworks/R.framework/Resources/bin/R CMD check --install=check:NetPathMiner.install-out.txt --library=/Library/Frameworks/R.framework/Resources/library --no-vignettes --timings NetPathMiner_1.42.0.tar.gz StartedAt: 2025-04-02 02:46:30 -0400 (Wed, 02 Apr 2025) EndedAt: 2025-04-02 02:47:37 -0400 (Wed, 02 Apr 2025) EllapsedTime: 67.1 seconds RetCode: 0 Status: OK CheckDir: NetPathMiner.Rcheck Warnings: 0