Package: NetPathMiner Version: 1.42.0 Command: /Library/Frameworks/R.framework/Resources/bin/R CMD build --keep-empty-dirs --no-resave-data NetPathMiner StartedAt: 2025-01-28 04:31:38 -0500 (Tue, 28 Jan 2025) EndedAt: 2025-01-28 04:32:15 -0500 (Tue, 28 Jan 2025) EllapsedTime: 36.6 seconds RetCode: 0 Status: OK PackageFile: NetPathMiner_1.42.0.tar.gz PackageFileSize: 2.503 MiB