Package: NetPathMiner Version: 1.42.0 Command: rm -rf NetPathMiner.buildbin-libdir && mkdir NetPathMiner.buildbin-libdir && /Users/biocbuild/BBS/utils/build-universal.sh NetPathMiner_1.42.0.tar.gz /Library/Frameworks/R.framework/Resources/bin/R NetPathMiner.buildbin-libdir StartedAt: 2025-01-29 15:44:05 -0500 (Wed, 29 Jan 2025) EndedAt: 2025-01-29 15:44:25 -0500 (Wed, 29 Jan 2025) EllapsedTime: 20.2 seconds RetCode: 0 Status: OK PackageFile: NetPathMiner_1.42.0.tgz PackageFileSize: 2.621 MiB