Package: NetActivity Version: 1.8.0 Command: chmod a+r NetActivity -R && F:\biocbuild\bbs-3.20-bioc\R\bin\R.exe CMD build --keep-empty-dirs --no-resave-data NetActivity StartedAt: 2025-03-31 20:35:51 -0400 (Mon, 31 Mar 2025) EndedAt: 2025-03-31 20:37:01 -0400 (Mon, 31 Mar 2025) EllapsedTime: 69.9 seconds RetCode: 0 Status: OK PackageFile: NetActivity_1.8.0.tar.gz PackageFileSize: 345.1 KiB