Package: NetActivity Version: 1.8.0 Command: /Library/Frameworks/R.framework/Resources/bin/R CMD build --keep-empty-dirs --no-resave-data NetActivity StartedAt: 2025-01-27 21:04:09 -0500 (Mon, 27 Jan 2025) EndedAt: 2025-01-27 21:06:27 -0500 (Mon, 27 Jan 2025) EllapsedTime: 138.2 seconds RetCode: 0 Status: OK PackageFile: NetActivity_1.8.0.tar.gz PackageFileSize: 437.6 KiB