Package: NetActivity Version: 1.8.0 Command: rm -rf NetActivity.buildbin-libdir && mkdir NetActivity.buildbin-libdir && /Users/biocbuild/BBS/utils/build-universal.sh NetActivity_1.8.0.tar.gz /Library/Frameworks/R.framework/Resources/bin/R NetActivity.buildbin-libdir StartedAt: 2025-01-29 15:43:37 -0500 (Wed, 29 Jan 2025) EndedAt: 2025-01-29 15:44:07 -0500 (Wed, 29 Jan 2025) EllapsedTime: 30.2 seconds RetCode: 0 Status: OK PackageFile: NetActivity_1.8.0.tgz PackageFileSize: 447 KiB