Package: Nebulosa Version: 1.16.0 Command: /Library/Frameworks/R.framework/Resources/bin/R CMD check --install=check:Nebulosa.install-out.txt --library=/Library/Frameworks/R.framework/Resources/library --no-vignettes --timings Nebulosa_1.16.0.tar.gz StartedAt: 2025-04-01 06:25:30 -0400 (Tue, 01 Apr 2025) EndedAt: 2025-04-01 06:32:07 -0400 (Tue, 01 Apr 2025) EllapsedTime: 397.2 seconds RetCode: 0 Status: OK CheckDir: Nebulosa.Rcheck Warnings: 0