Package: NanoTube Version: 1.12.0 Command: /Library/Frameworks/R.framework/Resources/bin/R CMD INSTALL NanoTube StartedAt: 2025-03-31 17:30:00 -0400 (Mon, 31 Mar 2025) EndedAt: 2025-03-31 17:30:11 -0400 (Mon, 31 Mar 2025) EllapsedTime: 10.4 seconds RetCode: 0 Status: OK