Package: NanoTube Version: 1.12.0 Command: /Library/Frameworks/R.framework/Resources/bin/R CMD check --install=check:NanoTube.install-out.txt --library=/Library/Frameworks/R.framework/Resources/library --no-vignettes --timings NanoTube_1.12.0.tar.gz StartedAt: 2025-01-29 02:47:27 -0500 (Wed, 29 Jan 2025) EndedAt: 2025-01-29 02:49:15 -0500 (Wed, 29 Jan 2025) EllapsedTime: 108.0 seconds RetCode: 0 Status: OK CheckDir: NanoTube.Rcheck Warnings: 0