Package: NanoTube Version: 1.12.0 Command: /Library/Frameworks/R.framework/Resources/bin/R CMD build --keep-empty-dirs --no-resave-data NanoTube StartedAt: 2025-04-01 04:12:10 -0400 (Tue, 01 Apr 2025) EndedAt: 2025-04-01 04:12:58 -0400 (Tue, 01 Apr 2025) EllapsedTime: 48.0 seconds RetCode: 0 Status: OK PackageFile: NanoTube_1.12.0.tar.gz PackageFileSize: 2.006 MiB