Package: NanoStringDiff Version: 1.36.0 Command: /home/biocbuild/bbs-3.20-bioc/R/bin/R CMD build --keep-empty-dirs --no-resave-data --md5 NanoStringDiff StartedAt: 2025-01-27 19:12:57 -0500 (Mon, 27 Jan 2025) EndedAt: 2025-01-27 19:13:16 -0500 (Mon, 27 Jan 2025) EllapsedTime: 19.0 seconds RetCode: 0 Status: OK PackageFile: NanoStringDiff_1.36.0.tar.gz PackageFileSize: 418.6 KiB