Package: NanoStringDiff Version: 1.36.0 Command: /Library/Frameworks/R.framework/Resources/bin/R CMD build --keep-empty-dirs --no-resave-data NanoStringDiff StartedAt: 2025-01-28 04:23:34 -0500 (Tue, 28 Jan 2025) EndedAt: 2025-01-28 04:24:06 -0500 (Tue, 28 Jan 2025) EllapsedTime: 32.0 seconds RetCode: 0 Status: OK PackageFile: NanoStringDiff_1.36.0.tar.gz PackageFileSize: 415.9 KiB