Package: NanoStringDiff Version: 1.36.0 Command: rm -rf NanoStringDiff.buildbin-libdir && mkdir NanoStringDiff.buildbin-libdir && /Users/biocbuild/BBS/utils/build-universal.sh NanoStringDiff_1.36.0.tar.gz /Library/Frameworks/R.framework/Resources/bin/R NanoStringDiff.buildbin-libdir StartedAt: 2025-02-05 16:54:42 -0500 (Wed, 05 Feb 2025) EndedAt: 2025-02-05 16:54:55 -0500 (Wed, 05 Feb 2025) EllapsedTime: 13.4 seconds RetCode: 0 Status: OK PackageFile: NanoStringDiff_1.36.0.tgz PackageFileSize: 469 KiB