Package: NanoMethViz Version: 3.2.0 Command: F:\biocbuild\bbs-3.20-bioc\R\bin\R.exe CMD INSTALL NanoMethViz StartedAt: 2025-01-27 16:53:14 -0500 (Mon, 27 Jan 2025) EndedAt: 2025-01-27 16:55:34 -0500 (Mon, 27 Jan 2025) EllapsedTime: 140.3 seconds RetCode: 0 Status: OK