Package: NanoMethViz Version: 3.2.0 Command: rm -rf NanoMethViz.buildbin-libdir && mkdir NanoMethViz.buildbin-libdir && F:\biocbuild\bbs-3.20-bioc\R\bin\R.exe CMD INSTALL --build --library=NanoMethViz.buildbin-libdir NanoMethViz_3.2.0.tar.gz StartedAt: 2025-01-28 08:40:56 -0500 (Tue, 28 Jan 2025) EndedAt: 2025-01-28 08:43:26 -0500 (Tue, 28 Jan 2025) EllapsedTime: 150.0 seconds RetCode: 0 Status: OK PackageFile: NanoMethViz_3.2.0.zip PackageFileSize: 8.078 MiB