Package: NanoMethViz Version: 3.2.0 Command: /home/biocbuild/bbs-3.20-bioc/R/bin/R CMD INSTALL NanoMethViz StartedAt: 2025-01-27 16:45:52 -0500 (Mon, 27 Jan 2025) EndedAt: 2025-01-27 16:47:17 -0500 (Mon, 27 Jan 2025) EllapsedTime: 84.7 seconds RetCode: 0 Status: OK