Package: NanoMethViz Version: 3.2.0 Command: /Library/Frameworks/R.framework/Resources/bin/R CMD check --install=check:NanoMethViz.install-out.txt --library=/Library/Frameworks/R.framework/Resources/library --no-vignettes --timings NanoMethViz_3.2.0.tar.gz StartedAt: 2025-02-01 02:59:03 -0500 (Sat, 01 Feb 2025) EndedAt: 2025-02-01 03:10:25 -0500 (Sat, 01 Feb 2025) EllapsedTime: 681.9 seconds RetCode: 0 Status: OK CheckDir: NanoMethViz.Rcheck Warnings: 0