Package: NanoMethViz Version: 3.2.0 Command: /Library/Frameworks/R.framework/Resources/bin/R CMD build --keep-empty-dirs --no-resave-data NanoMethViz StartedAt: 2025-02-04 04:32:15 -0500 (Tue, 04 Feb 2025) EndedAt: 2025-02-04 04:35:41 -0500 (Tue, 04 Feb 2025) EllapsedTime: 206.4 seconds RetCode: 0 Status: OK PackageFile: NanoMethViz_3.2.0.tar.gz PackageFileSize: 8.398 MiB