Package: NTW Version: 1.56.0 Command: /home/biocbuild/bbs-3.20-bioc/R/bin/R CMD INSTALL NTW StartedAt: 2024-11-19 15:21:36 -0500 (Tue, 19 Nov 2024) EndedAt: 2024-11-19 15:21:38 -0500 (Tue, 19 Nov 2024) EllapsedTime: 2.0 seconds RetCode: 0 Status: OK