Package: NTW Version: 1.56.0 Command: /home/biocbuild/bbs-3.20-bioc/R/bin/R CMD build --keep-empty-dirs --no-resave-data NTW StartedAt: 2024-11-19 20:33:55 -0500 (Tue, 19 Nov 2024) EndedAt: 2024-11-19 20:34:05 -0500 (Tue, 19 Nov 2024) EllapsedTime: 10.0 seconds RetCode: 0 Status: OK PackageFile: NTW_1.56.0.tar.gz PackageFileSize: 872 KiB