Package: NTW Version: 1.56.0 Command: /home/biocbuild/R/R/bin/R CMD INSTALL NTW StartedAt: 2025-02-03 20:24:22 -0000 (Mon, 03 Feb 2025) EndedAt: 2025-02-03 20:24:31 -0000 (Mon, 03 Feb 2025) EllapsedTime: 9.4 seconds RetCode: 0 Status: OK