Package: NTW Version: 1.56.0 Command: /home/biocbuild/R/R/bin/R CMD build --keep-empty-dirs --no-resave-data NTW StartedAt: 2025-01-28 02:01:46 -0000 (Tue, 28 Jan 2025) EndedAt: 2025-01-28 02:01:59 -0000 (Tue, 28 Jan 2025) EllapsedTime: 13.0 seconds RetCode: 0 Status: OK PackageFile: NTW_1.56.0.tar.gz PackageFileSize: 860 KiB