Package: NTW Version: 1.56.0 Command: /home/biocbuild/bbs-3.20-bioc/R/bin/R CMD check --install=check:NTW.install-out.txt --library=/home/biocbuild/bbs-3.20-bioc/R/site-library --timings NTW_1.56.0.tar.gz StartedAt: 2025-01-28 01:31:40 -0500 (Tue, 28 Jan 2025) EndedAt: 2025-01-28 01:32:10 -0500 (Tue, 28 Jan 2025) EllapsedTime: 30.1 seconds RetCode: 0 Status: WARNINGS CheckDir: NTW.Rcheck Warnings: 1