Package: NTW Version: 1.56.0 Command: rm -rf NTW.buildbin-libdir && mkdir NTW.buildbin-libdir && /Users/biocbuild/BBS/utils/build-universal.sh NTW_1.56.0.tar.gz /Library/Frameworks/R.framework/Resources/bin/R NTW.buildbin-libdir StartedAt: 2025-02-04 13:39:23 -0500 (Tue, 04 Feb 2025) EndedAt: 2025-02-04 13:39:31 -0500 (Tue, 04 Feb 2025) EllapsedTime: 7.7 seconds RetCode: 0 Status: OK PackageFile: NTW_1.56.0.tgz PackageFileSize: 619.2 KiB