Package: NTW Version: 1.56.0 Command: /Library/Frameworks/R.framework/Resources/bin/R CMD INSTALL NTW StartedAt: 2024-11-19 15:05:41 -0500 (Tue, 19 Nov 2024) EndedAt: 2024-11-19 15:06:02 -0500 (Tue, 19 Nov 2024) EllapsedTime: 20.9 seconds RetCode: 0 Status: OK