Package: NTW Version: 1.56.0 Command: /Library/Frameworks/R.framework/Resources/bin/R CMD build --keep-empty-dirs --no-resave-data NTW StartedAt: 2024-11-19 17:55:23 -0500 (Tue, 19 Nov 2024) EndedAt: 2024-11-19 17:56:06 -0500 (Tue, 19 Nov 2024) EllapsedTime: 42.3 seconds RetCode: 0 Status: OK PackageFile: NTW_1.56.0.tar.gz PackageFileSize: 871.4 KiB