Package: NTW Version: 1.56.0 Command: /Library/Frameworks/R.framework/Resources/bin/R CMD check --install=check:NTW.install-out.txt --library=/Library/Frameworks/R.framework/Resources/library --no-vignettes --timings NTW_1.56.0.tar.gz StartedAt: 2024-11-09 08:44:16 -0500 (Sat, 09 Nov 2024) EndedAt: 2024-11-09 08:48:10 -0500 (Sat, 09 Nov 2024) EllapsedTime: 234.3 seconds RetCode: 0 Status: WARNINGS CheckDir: NTW.Rcheck Warnings: 1