Package: NTW Version: 1.56.0 Command: /Library/Frameworks/R.framework/Resources/bin/R CMD check --install=check:NTW.install-out.txt --library=/Library/Frameworks/R.framework/Resources/library --no-vignettes --timings NTW_1.56.0.tar.gz StartedAt: 2025-02-05 04:07:21 -0500 (Wed, 05 Feb 2025) EndedAt: 2025-02-05 04:07:53 -0500 (Wed, 05 Feb 2025) EllapsedTime: 31.5 seconds RetCode: 0 Status: WARNINGS CheckDir: NTW.Rcheck Warnings: 1