Package: NTW Version: 1.56.0 Command: rm -rf NTW.buildbin-libdir && mkdir NTW.buildbin-libdir && /Users/biocbuild/BBS/utils/build-universal.sh NTW_1.56.0.tar.gz /Library/Frameworks/R.framework/Resources/bin/R NTW.buildbin-libdir StartedAt: 2025-02-05 16:58:29 -0500 (Wed, 05 Feb 2025) EndedAt: 2025-02-05 16:58:32 -0500 (Wed, 05 Feb 2025) EllapsedTime: 3.4 seconds RetCode: 0 Status: OK PackageFile: NTW_1.56.0.tgz PackageFileSize: 619.1 KiB