Package: NPARC Version: 1.18.0 Command: rm -rf NPARC.buildbin-libdir && mkdir NPARC.buildbin-libdir && /Users/biocbuild/BBS/utils/build-universal.sh NPARC_1.18.0.tar.gz /Library/Frameworks/R.framework/Resources/bin/R NPARC.buildbin-libdir StartedAt: 2025-01-28 13:57:20 -0500 (Tue, 28 Jan 2025) EndedAt: 2025-01-28 13:57:44 -0500 (Tue, 28 Jan 2025) EllapsedTime: 23.8 seconds RetCode: 0 Status: OK PackageFile: NPARC_1.18.0.tgz PackageFileSize: 2.473 MiB