Package: NOISeq Version: 2.50.0 Command: /home/biocbuild/R/R/bin/R CMD check --install=check:NOISeq.install-out.txt --library=/home/biocbuild/R/R/site-library --no-vignettes --timings NOISeq_2.50.0.tar.gz StartedAt: 2025-02-04 09:23:48 -0000 (Tue, 04 Feb 2025) EndedAt: 2025-02-04 09:25:47 -0000 (Tue, 04 Feb 2025) EllapsedTime: 118.2 seconds RetCode: 0 Status: OK CheckDir: NOISeq.Rcheck Warnings: 0