Package: NOISeq Version: 2.50.0 Command: /home/biocbuild/R/R/bin/R CMD build --keep-empty-dirs --no-resave-data NOISeq StartedAt: 2025-01-28 02:00:17 -0000 (Tue, 28 Jan 2025) EndedAt: 2025-01-28 02:01:49 -0000 (Tue, 28 Jan 2025) EllapsedTime: 92.2 seconds RetCode: 0 Status: OK PackageFile: NOISeq_2.50.0.tar.gz PackageFileSize: 2.046 MiB