Package: NOISeq Version: 2.50.0 Command: rm -rf NOISeq.buildbin-libdir && mkdir NOISeq.buildbin-libdir && F:\biocbuild\bbs-3.20-bioc\R\bin\R.exe CMD INSTALL --build --library=NOISeq.buildbin-libdir NOISeq_2.50.0.tar.gz StartedAt: 2025-04-01 08:45:56 -0400 (Tue, 01 Apr 2025) EndedAt: 2025-04-01 08:46:30 -0400 (Tue, 01 Apr 2025) EllapsedTime: 34.4 seconds RetCode: 0 Status: OK PackageFile: NOISeq_2.50.0.zip PackageFileSize: 2.263 MiB