Package: NOISeq Version: 2.50.0 Command: /Library/Frameworks/R.framework/Resources/bin/R CMD INSTALL NOISeq StartedAt: 2025-02-03 15:13:03 -0500 (Mon, 03 Feb 2025) EndedAt: 2025-02-03 15:13:36 -0500 (Mon, 03 Feb 2025) EllapsedTime: 32.6 seconds RetCode: 0 Status: OK