Package: NOISeq Version: 2.50.0 Command: /Library/Frameworks/R.framework/Resources/bin/R CMD build --keep-empty-dirs --no-resave-data NOISeq StartedAt: 2025-02-03 20:53:21 -0500 (Mon, 03 Feb 2025) EndedAt: 2025-02-03 20:56:39 -0500 (Mon, 03 Feb 2025) EllapsedTime: 198.6 seconds RetCode: 0 Status: OK PackageFile: NOISeq_2.50.0.tar.gz PackageFileSize: 2.057 MiB