Package: NOISeq Version: 2.50.0 Command: rm -rf NOISeq.buildbin-libdir && mkdir NOISeq.buildbin-libdir && /Users/biocbuild/BBS/utils/build-universal.sh NOISeq_2.50.0.tar.gz /Library/Frameworks/R.framework/Resources/bin/R NOISeq.buildbin-libdir StartedAt: 2025-02-04 13:38:32 -0500 (Tue, 04 Feb 2025) EndedAt: 2025-02-04 13:39:14 -0500 (Tue, 04 Feb 2025) EllapsedTime: 41.7 seconds RetCode: 0 Status: OK PackageFile: NOISeq_2.50.0.tgz PackageFileSize: 2.422 MiB