Package: NOISeq Version: 2.50.0 Command: /Library/Frameworks/R.framework/Resources/bin/R CMD INSTALL NOISeq StartedAt: 2025-03-31 15:05:47 -0400 (Mon, 31 Mar 2025) EndedAt: 2025-03-31 15:05:59 -0400 (Mon, 31 Mar 2025) EllapsedTime: 11.7 seconds RetCode: 0 Status: OK