Package: NOISeq Version: 2.50.0 Command: rm -rf NOISeq.buildbin-libdir && mkdir NOISeq.buildbin-libdir && /Users/biocbuild/BBS/utils/build-universal.sh NOISeq_2.50.0.tar.gz /Library/Frameworks/R.framework/Resources/bin/R NOISeq.buildbin-libdir StartedAt: 2025-04-02 15:28:33 -0400 (Wed, 02 Apr 2025) EndedAt: 2025-04-02 15:28:47 -0400 (Wed, 02 Apr 2025) EllapsedTime: 13.5 seconds RetCode: 0 Status: OK PackageFile: NOISeq_2.50.0.tgz PackageFileSize: 2.426 MiB