Package: NBAMSeq Version: 1.22.0 Command: F:\biocbuild\bbs-3.20-bioc\R\bin\R.exe CMD INSTALL NBAMSeq StartedAt: 2025-03-31 16:38:11 -0400 (Mon, 31 Mar 2025) EndedAt: 2025-03-31 16:38:48 -0400 (Mon, 31 Mar 2025) EllapsedTime: 37.3 seconds RetCode: 0 Status: OK