Package: NBAMSeq Version: 1.22.0 Command: F:\biocbuild\bbs-3.20-bioc\R\bin\R.exe CMD check --no-multiarch --install=check:NBAMSeq.install-out.txt --library=F:\biocbuild\bbs-3.20-bioc\R\library --no-vignettes --timings NBAMSeq_1.22.0.tar.gz StartedAt: 2025-01-31 04:30:31 -0500 (Fri, 31 Jan 2025) EndedAt: 2025-01-31 04:34:29 -0500 (Fri, 31 Jan 2025) EllapsedTime: 237.8 seconds RetCode: 0 Status: OK CheckDir: NBAMSeq.Rcheck Warnings: 0