Package: NBAMSeq Version: 1.22.0 Command: rm -rf NBAMSeq.buildbin-libdir && mkdir NBAMSeq.buildbin-libdir && F:\biocbuild\bbs-3.20-bioc\R\bin\R.exe CMD INSTALL --build --library=NBAMSeq.buildbin-libdir NBAMSeq_1.22.0.tar.gz StartedAt: 2025-04-01 08:44:33 -0400 (Tue, 01 Apr 2025) EndedAt: 2025-04-01 08:45:09 -0400 (Tue, 01 Apr 2025) EllapsedTime: 36.8 seconds RetCode: 0 Status: OK PackageFile: NBAMSeq_1.22.0.zip PackageFileSize: 298.9 KiB