Package: NBAMSeq Version: 1.22.0 Command: /home/biocbuild/bbs-3.20-bioc/R/bin/R CMD INSTALL NBAMSeq StartedAt: 2025-03-31 15:45:59 -0400 (Mon, 31 Mar 2025) EndedAt: 2025-03-31 15:46:27 -0400 (Mon, 31 Mar 2025) EllapsedTime: 27.6 seconds RetCode: 0 Status: OK