Package: NBAMSeq Version: 1.22.0 Command: /home/biocbuild/bbs-3.20-bioc/R/bin/R CMD build --keep-empty-dirs --no-resave-data --md5 NBAMSeq StartedAt: 2025-03-31 18:16:15 -0400 (Mon, 31 Mar 2025) EndedAt: 2025-03-31 18:17:06 -0400 (Mon, 31 Mar 2025) EllapsedTime: 51.0 seconds RetCode: 0 Status: OK PackageFile: NBAMSeq_1.22.0.tar.gz PackageFileSize: 304.7 KiB